BEGIN:VCALENDAR
VERSION:2.0
PRODID:-//Downtown Denville - ECPv6.13.2.1//NONSGML v1.0//EN
CALSCALE:GREGORIAN
METHOD:PUBLISH
X-WR-CALNAME:Downtown Denville
X-ORIGINAL-URL:https://downtowndenville.com
X-WR-CALDESC:Events for Downtown Denville
REFRESH-INTERVAL;VALUE=DURATION:PT1H
X-Robots-Tag:noindex
X-PUBLISHED-TTL:PT1H
BEGIN:VTIMEZONE
TZID:UTC
BEGIN:STANDARD
TZOFFSETFROM:+0000
TZOFFSETTO:+0000
TZNAME:UTC
DTSTART:20240101T000000
END:STANDARD
END:VTIMEZONE
BEGIN:VEVENT
DTSTART;TZID=UTC:20241224T080000
DTEND;TZID=UTC:20241224T170000
DTSTAMP:20260424T182350
CREATED:20240117T075623Z
LAST-MODIFIED:20240117T075623Z
UID:4347-1735027200-1735059600@downtowndenville.com
SUMMARY:Santa Run on Christmas Eve
DESCRIPTION:
URL:https://downtowndenville.com/event/santa-run-on-christmas-eve/
END:VEVENT
BEGIN:VEVENT
DTSTART;TZID=UTC:20241201T080000
DTEND;TZID=UTC:20241201T170000
DTSTAMP:20260424T182350
CREATED:20240117T075555Z
LAST-MODIFIED:20240117T075555Z
UID:4345-1733040000-1733072400@downtowndenville.com
SUMMARY:Denville Holiday Parade
DESCRIPTION:
URL:https://downtowndenville.com/event/denville-holiday-parade-2/
END:VEVENT
BEGIN:VEVENT
DTSTART;TZID=UTC:20241130T080000
DTEND;TZID=UTC:20241130T170000
DTSTAMP:20260424T182350
CREATED:20240117T075450Z
LAST-MODIFIED:20240117T075513Z
UID:4343-1732953600-1732986000@downtowndenville.com
SUMMARY:Santa Land Opening
DESCRIPTION:
URL:https://downtowndenville.com/event/santa-land-opening/
END:VEVENT
BEGIN:VEVENT
DTSTART;TZID=UTC:20241130T080000
DTEND;TZID=UTC:20241130T170000
DTSTAMP:20260424T182350
CREATED:20240117T075435Z
LAST-MODIFIED:20240117T075435Z
UID:4341-1732953600-1732986000@downtowndenville.com
SUMMARY:Small Business Saturday
DESCRIPTION:
URL:https://downtowndenville.com/event/small-business-saturday-2/
END:VEVENT
BEGIN:VEVENT
DTSTART;TZID=UTC:20241129T080000
DTEND;TZID=UTC:20241129T170000
DTSTAMP:20260424T182350
CREATED:20240117T075411Z
LAST-MODIFIED:20240117T075411Z
UID:4339-1732867200-1732899600@downtowndenville.com
SUMMARY:Holiday Makers' Market
DESCRIPTION:
URL:https://downtowndenville.com/event/holiday-makers-market/
END:VEVENT
BEGIN:VEVENT
DTSTART;VALUE=DATE:20241129
DTEND;VALUE=DATE:20241130
DTSTAMP:20260424T182350
CREATED:20240103T204821Z
LAST-MODIFIED:20240103T204821Z
UID:4256-1732838400-1732924799@downtowndenville.com
SUMMARY:Holiday Open House
DESCRIPTION:
URL:https://downtowndenville.com/event/holiday-open-house-2/
LOCATION:Downtown Denville\, Denville\, NJ\, United States
END:VEVENT
BEGIN:VEVENT
DTSTART;TZID=UTC:20241103T080000
DTEND;TZID=UTC:20241103T170000
DTSTAMP:20260424T182350
CREATED:20240117T075333Z
LAST-MODIFIED:20240117T075333Z
UID:4337-1730620800-1730653200@downtowndenville.com
SUMMARY:Fall Makers' Market
DESCRIPTION:
URL:https://downtowndenville.com/event/fall-makers-market/
END:VEVENT
BEGIN:VEVENT
DTSTART;TZID=UTC:20241024T190000
DTEND;TZID=UTC:20241024T200000
DTSTAMP:20260424T182350
CREATED:20240117T073133Z
LAST-MODIFIED:20240117T073133Z
UID:4281-1729796400-1729800000@downtowndenville.com
SUMMARY:October Public Meeting
DESCRIPTION:
URL:https://downtowndenville.com/event/october-public-meeting/
LOCATION:Denville Townhall\, denville township municipal building\, 1 St Marys Pl\, Denville\, NJ 07834
END:VEVENT
BEGIN:VEVENT
DTSTART;TZID=UTC:20241018T080000
DTEND;TZID=UTC:20241018T170000
DTSTAMP:20260424T182350
CREATED:20240117T075214Z
LAST-MODIFIED:20240117T075214Z
UID:4335-1729238400-1729270800@downtowndenville.com
SUMMARY:Halloween House Decorating Contest
DESCRIPTION:
URL:https://downtowndenville.com/event/halloween-house-decorating-contest/
END:VEVENT
BEGIN:VEVENT
DTSTART;TZID=UTC:20241018T080000
DTEND;TZID=UTC:20241018T170000
DTSTAMP:20260424T182350
CREATED:20240117T075147Z
LAST-MODIFIED:20240117T075147Z
UID:4333-1729238400-1729270800@downtowndenville.com
SUMMARY:Halloween Parade
DESCRIPTION:
URL:https://downtowndenville.com/event/halloween-parade/
END:VEVENT
BEGIN:VEVENT
DTSTART;VALUE=DATE:20241018
DTEND;VALUE=DATE:20241019
DTSTAMP:20260424T182350
CREATED:20240103T204745Z
LAST-MODIFIED:20240103T204745Z
UID:4254-1729209600-1729295999@downtowndenville.com
SUMMARY:2024 Pink Witches Night Out
DESCRIPTION:
URL:https://downtowndenville.com/event/2024-pink-witches-night-out/
LOCATION:Downtown Denville\, Denville\, NJ\, United States
END:VEVENT
BEGIN:VEVENT
DTSTART;TZID=UTC:20241005T080000
DTEND;TZID=UTC:20241005T170000
DTSTAMP:20260424T182350
CREATED:20240117T075105Z
LAST-MODIFIED:20240117T075105Z
UID:4331-1728115200-1728147600@downtowndenville.com
SUMMARY:Food Truck & Family Festival
DESCRIPTION:
URL:https://downtowndenville.com/event/food-truck-family-festival/
END:VEVENT
BEGIN:VEVENT
DTSTART;TZID=UTC:20240926T190000
DTEND;TZID=UTC:20240926T200000
DTSTAMP:20260424T182350
CREATED:20240117T073049Z
LAST-MODIFIED:20240117T073049Z
UID:4279-1727377200-1727380800@downtowndenville.com
SUMMARY:September Public Board Meeting
DESCRIPTION:
URL:https://downtowndenville.com/event/september-public-board-meeting/
LOCATION:Denville Townhall\, denville township municipal building\, 1 St Marys Pl\, Denville\, NJ 07834
END:VEVENT
BEGIN:VEVENT
DTSTART;TZID=UTC:20240922T080000
DTEND;TZID=UTC:20240922T170000
DTSTAMP:20260424T182350
CREATED:20240117T075012Z
LAST-MODIFIED:20240117T075012Z
UID:4327-1726992000-1727024400@downtowndenville.com
SUMMARY:Feast of San Gennaro
DESCRIPTION:
URL:https://downtowndenville.com/event/feast-of-san-gennaro/
END:VEVENT
BEGIN:VEVENT
DTSTART;VALUE=DATE:20240922
DTEND;VALUE=DATE:20240927
DTSTAMP:20260424T182350
CREATED:20240117T075040Z
LAST-MODIFIED:20240117T075040Z
UID:4329-1726963200-1727395199@downtowndenville.com
SUMMARY:Denville Restaurant Week
DESCRIPTION:
URL:https://downtowndenville.com/event/denville-restaurant-week/
END:VEVENT
BEGIN:VEVENT
DTSTART;TZID=UTC:20240908T080000
DTEND;TZID=UTC:20240908T170000
DTSTAMP:20260424T182350
CREATED:20240117T074936Z
LAST-MODIFIED:20240117T074936Z
UID:4325-1725782400-1725814800@downtowndenville.com
SUMMARY:Fall Art in the Park
DESCRIPTION:
URL:https://downtowndenville.com/event/fall-art-in-the-park/
END:VEVENT
BEGIN:VEVENT
DTSTART;TZID=UTC:20240829T190000
DTEND;TZID=UTC:20240829T200000
DTSTAMP:20260424T182350
CREATED:20240117T073009Z
LAST-MODIFIED:20240117T073009Z
UID:4277-1724958000-1724961600@downtowndenville.com
SUMMARY:August Public Board Meeting
DESCRIPTION:
URL:https://downtowndenville.com/event/august-public-board-meeting/
LOCATION:Denville Townhall\, denville township municipal building\, 1 St Marys Pl\, Denville\, NJ 07834
END:VEVENT
BEGIN:VEVENT
DTSTART;TZID=UTC:20240820T080000
DTEND;TZID=UTC:20240820T170000
DTSTAMP:20260424T182350
CREATED:20240117T074914Z
LAST-MODIFIED:20240117T074914Z
UID:4323-1724140800-1724173200@downtowndenville.com
SUMMARY:Music in the Park
DESCRIPTION:
URL:https://downtowndenville.com/event/music-in-the-park-6/
END:VEVENT
BEGIN:VEVENT
DTSTART;TZID=UTC:20240813T080000
DTEND;TZID=UTC:20240813T170000
DTSTAMP:20260424T182350
CREATED:20240117T074757Z
LAST-MODIFIED:20240117T074757Z
UID:4321-1723536000-1723568400@downtowndenville.com
SUMMARY:Music in the Park
DESCRIPTION:
URL:https://downtowndenville.com/event/music-in-the-park-5/
END:VEVENT
BEGIN:VEVENT
DTSTART;TZID=UTC:20240806T080000
DTEND;TZID=UTC:20240806T170000
DTSTAMP:20260424T182350
CREATED:20240117T074741Z
LAST-MODIFIED:20240117T074741Z
UID:4319-1722931200-1722963600@downtowndenville.com
SUMMARY:National Night Out
DESCRIPTION:
URL:https://downtowndenville.com/event/national-night-out/
END:VEVENT
BEGIN:VEVENT
DTSTART;TZID=UTC:20240730T080000
DTEND;TZID=UTC:20240730T170000
DTSTAMP:20260424T182350
CREATED:20240117T074721Z
LAST-MODIFIED:20240117T074721Z
UID:4317-1722326400-1722358800@downtowndenville.com
SUMMARY:Joey Bella Tricky Tray and Beer\, Band & Beefsteak
DESCRIPTION:
URL:https://downtowndenville.com/event/joey-bella-tricky-tray-and-beer-band-beefsteak/
END:VEVENT
BEGIN:VEVENT
DTSTART;TZID=UTC:20240730T080000
DTEND;TZID=UTC:20240730T170000
DTSTAMP:20260424T182350
CREATED:20240117T074651Z
LAST-MODIFIED:20240117T074651Z
UID:4315-1722326400-1722358800@downtowndenville.com
SUMMARY:Music in the Park
DESCRIPTION:
URL:https://downtowndenville.com/event/music-in-the-park-4/
END:VEVENT
BEGIN:VEVENT
DTSTART;TZID=UTC:20240725T190000
DTEND;TZID=UTC:20240725T200000
DTSTAMP:20260424T182350
CREATED:20240117T072927Z
LAST-MODIFIED:20240117T072927Z
UID:4275-1721934000-1721937600@downtowndenville.com
SUMMARY:July Public Board Meeting
DESCRIPTION:
URL:https://downtowndenville.com/event/july-public-board-meeting/
LOCATION:Denville Townhall\, denville township municipal building\, 1 St Marys Pl\, Denville\, NJ 07834
END:VEVENT
BEGIN:VEVENT
DTSTART;VALUE=DATE:20240725
DTEND;VALUE=DATE:20240728
DTSTAMP:20260424T182350
CREATED:20240103T204701Z
LAST-MODIFIED:20240103T204701Z
UID:4252-1721865600-1722124799@downtowndenville.com
SUMMARY:Sidewalk Sales
DESCRIPTION:
URL:https://downtowndenville.com/event/sidewalk-sales/
LOCATION:Downtown Denville\, Denville\, NJ\, United States
END:VEVENT
BEGIN:VEVENT
DTSTART;TZID=UTC:20240723T080000
DTEND;TZID=UTC:20240723T170000
DTSTAMP:20260424T182350
CREATED:20240117T074627Z
LAST-MODIFIED:20240117T074627Z
UID:4313-1721721600-1721754000@downtowndenville.com
SUMMARY:Music in the Park
DESCRIPTION:
URL:https://downtowndenville.com/event/music-in-the-park-3/
END:VEVENT
BEGIN:VEVENT
DTSTART;TZID=UTC:20240716T080000
DTEND;TZID=UTC:20240716T170000
DTSTAMP:20260424T182350
CREATED:20240117T074608Z
LAST-MODIFIED:20240117T074608Z
UID:4311-1721116800-1721149200@downtowndenville.com
SUMMARY:Music in the Park
DESCRIPTION:
URL:https://downtowndenville.com/event/music-in-the-park-2/
END:VEVENT
BEGIN:VEVENT
DTSTART;TZID=UTC:20240709T080000
DTEND;TZID=UTC:20240709T170000
DTSTAMP:20260424T182350
CREATED:20240117T074545Z
LAST-MODIFIED:20240117T074545Z
UID:4309-1720512000-1720544400@downtowndenville.com
SUMMARY:Music in the Park
DESCRIPTION:
URL:https://downtowndenville.com/event/music-in-the-park/
END:VEVENT
BEGIN:VEVENT
DTSTART;TZID=UTC:20240704T080000
DTEND;TZID=UTC:20240704T170000
DTSTAMP:20260424T182350
CREATED:20240117T074519Z
LAST-MODIFIED:20240117T074519Z
UID:4307-1720080000-1720112400@downtowndenville.com
SUMMARY:4th of July Fireworks
DESCRIPTION:
URL:https://downtowndenville.com/event/4th-of-july-fireworks/
END:VEVENT
BEGIN:VEVENT
DTSTART;TZID=UTC:20240627T190000
DTEND;TZID=UTC:20240627T200000
DTSTAMP:20260424T182350
CREATED:20240117T072748Z
LAST-MODIFIED:20240117T072748Z
UID:4273-1719514800-1719518400@downtowndenville.com
SUMMARY:June Public Board Meeting
DESCRIPTION:
URL:https://downtowndenville.com/event/june-public-board-meeting/
LOCATION:Denville Townhall\, denville township municipal building\, 1 St Marys Pl\, Denville\, NJ 07834
END:VEVENT
BEGIN:VEVENT
DTSTART;TZID=UTC:20240623T080000
DTEND;TZID=UTC:20240623T170000
DTSTAMP:20260424T182350
CREATED:20240117T074417Z
LAST-MODIFIED:20240117T074417Z
UID:4305-1719129600-1719162000@downtowndenville.com
SUMMARY:Midsummer Makers' Market
DESCRIPTION:
URL:https://downtowndenville.com/event/midsummer-makers-market/
END:VEVENT
END:VCALENDAR