BEGIN:VCALENDAR
VERSION:2.0
PRODID:-//Downtown Denville - ECPv6.13.2.1//NONSGML v1.0//EN
CALSCALE:GREGORIAN
METHOD:PUBLISH
X-ORIGINAL-URL:https://downtowndenville.com
X-WR-CALDESC:Events for Downtown Denville
REFRESH-INTERVAL;VALUE=DURATION:PT1H
X-Robots-Tag:noindex
X-PUBLISHED-TTL:PT1H
BEGIN:VTIMEZONE
TZID:UTC
BEGIN:STANDARD
TZOFFSETFROM:+0000
TZOFFSETTO:+0000
TZNAME:UTC
DTSTART:20230101T000000
END:STANDARD
END:VTIMEZONE
BEGIN:VEVENT
DTSTART;VALUE=DATE:20240527
DTEND;VALUE=DATE:20240528
DTSTAMP:20260424T233927
CREATED:20240117T073924Z
LAST-MODIFIED:20240117T073924Z
UID:4295-1716768000-1716854399@downtowndenville.com
SUMMARY:Memorial Day Parade
DESCRIPTION:
URL:https://downtowndenville.com/event/memorial-day-parade/
END:VEVENT
BEGIN:VEVENT
DTSTART;VALUE=DATE:20240524
DTEND;VALUE=DATE:20240525
DTSTAMP:20260424T233927
CREATED:20240117T073842Z
LAST-MODIFIED:20240117T073842Z
UID:4293-1716508800-1716595199@downtowndenville.com
SUMMARY:Field of Flags Kickoff
DESCRIPTION:
URL:https://downtowndenville.com/event/field-of-flags-kickoff/
END:VEVENT
BEGIN:VEVENT
DTSTART;TZID=UTC:20240519T080000
DTEND;TZID=UTC:20240519T170000
DTSTAMP:20260424T233927
CREATED:20240117T073753Z
LAST-MODIFIED:20240117T073753Z
UID:4291-1716105600-1716138000@downtowndenville.com
SUMMARY:Denville Garlic Fest
DESCRIPTION:
URL:https://downtowndenville.com/event/denville-garlic-fest/
END:VEVENT
BEGIN:VEVENT
DTSTART;VALUE=DATE:20240513
DTEND;VALUE=DATE:20240515
DTSTAMP:20260424T233927
CREATED:20240117T073714Z
LAST-MODIFIED:20240117T073714Z
UID:4289-1715558400-1715731199@downtowndenville.com
SUMMARY:Taste of Denville
DESCRIPTION:
URL:https://downtowndenville.com/event/taste-of-denville/
END:VEVENT
BEGIN:VEVENT
DTSTART;TZID=UTC:20240505T080000
DTEND;TZID=UTC:20240505T170000
DTSTAMP:20260424T233927
CREATED:20240117T073637Z
LAST-MODIFIED:20240403T195614Z
UID:4287-1714896000-1714928400@downtowndenville.com
SUMMARY:Spring Art in the Park
DESCRIPTION:
URL:https://downtowndenville.com/event/spring-art-in-the-park/
END:VEVENT
BEGIN:VEVENT
DTSTART;TZID=UTC:20240425T190000
DTEND;TZID=UTC:20240425T200000
DTSTAMP:20260424T233927
CREATED:20240117T072631Z
LAST-MODIFIED:20240117T072631Z
UID:4269-1714071600-1714075200@downtowndenville.com
SUMMARY:April Board Meeting
DESCRIPTION:
URL:https://downtowndenville.com/event/april-board-meeting/
LOCATION:Denville Townhall\, denville township municipal building\, 1 St Marys Pl\, Denville\, NJ 07834
END:VEVENT
BEGIN:VEVENT
DTSTART;TZID=UTC:20240330T100000
DTEND;TZID=UTC:20240330T130000
DTSTAMP:20260424T233927
CREATED:20240103T204445Z
LAST-MODIFIED:20240319T192229Z
UID:4246-1711792800-1711803600@downtowndenville.com
SUMMARY:Spring Into Downtown Denville
DESCRIPTION:
URL:https://downtowndenville.com/event/spring-into-denville/
LOCATION:Downtown Denville\, Denville\, NJ\, United States
END:VEVENT
BEGIN:VEVENT
DTSTART;TZID=UTC:20240328T190000
DTEND;TZID=UTC:20240328T200000
DTSTAMP:20260424T233927
CREATED:20240117T072556Z
LAST-MODIFIED:20240117T072556Z
UID:4267-1711652400-1711656000@downtowndenville.com
SUMMARY:March Public Board Meeting
DESCRIPTION:
URL:https://downtowndenville.com/event/march-public-board-meeting/
LOCATION:Denville Townhall\, denville township municipal building\, 1 St Marys Pl\, Denville\, NJ 07834
END:VEVENT
BEGIN:VEVENT
DTSTART;TZID=UTC:20240229T190000
DTEND;TZID=UTC:20240229T200000
DTSTAMP:20260424T233927
CREATED:20240116T201627Z
LAST-MODIFIED:20240116T201627Z
UID:4265-1709233200-1709236800@downtowndenville.com
SUMMARY:February Downtown Denville BID
DESCRIPTION:Downtown Denville BID board meetings are generally held in-person\, the last Thursday of the month\, at 7PM at Denville Town Hall.
URL:https://downtowndenville.com/event/february-downtown-denville-bid/
END:VEVENT
BEGIN:VEVENT
DTSTART;TZID=UTC:20240224T080000
DTEND;TZID=UTC:20240224T170000
DTSTAMP:20260424T233927
CREATED:20240117T073601Z
LAST-MODIFIED:20240117T073601Z
UID:4285-1708761600-1708794000@downtowndenville.com
SUMMARY:Spark Polar Plunge
DESCRIPTION:
URL:https://downtowndenville.com/event/spark-polar-plunge/
END:VEVENT
BEGIN:VEVENT
DTSTART;TZID=UTC:20240212T080000
DTEND;TZID=UTC:20240212T170000
DTSTAMP:20260424T233928
CREATED:20240117T073532Z
LAST-MODIFIED:20240117T073532Z
UID:4283-1707724800-1707757200@downtowndenville.com
SUMMARY:Denville Arts Council Mini Art Show Reception
DESCRIPTION:
URL:https://downtowndenville.com/event/denville-arts-council-mini-art-show-reception/
END:VEVENT
BEGIN:VEVENT
DTSTART;TZID=UTC:20240125T190000
DTEND;TZID=UTC:20240125T200000
DTSTAMP:20260424T233928
CREATED:20240116T201151Z
LAST-MODIFIED:20240116T201151Z
UID:4263-1706209200-1706212800@downtowndenville.com
SUMMARY:January Public Board Meeting
DESCRIPTION:Downtown Denville BID board meetings are generally held in-person\, the last Thursday of the month\, at 7PM at Denville Town Hall.
URL:https://downtowndenville.com/event/january-public-board-meeting/
LOCATION:Denville Townhall\, denville township municipal building\, 1 St Marys Pl\, Denville\, NJ 07834
END:VEVENT
BEGIN:VEVENT
DTSTART;TZID=UTC:20240103T190000
DTEND;TZID=UTC:20240103T200000
DTSTAMP:20260424T233928
CREATED:20240103T204151Z
LAST-MODIFIED:20240103T204151Z
UID:4244-1704308400-1704312000@downtowndenville.com
SUMMARY:Public Meeting - 2024 Reorganization Meeting
DESCRIPTION:Come welcome our new Board Members for 2024 and hear about our plans for the district this year. \nMEETING AGENDA: \nSelection of Chair\, Vice Chair\, Treasurer and Secretary \nChairperson Remarks: \nPublic Portion: \nTown Remarks – Mayor\, Administrator\, Council Liaison \nExecutive Director Remarks: \nCommittee Reports – \nPromotions – social media contract\, Valentines Day Activities\, Sponsorships\, Events \nTreasurers Report – Executive Director Bonus Contract \nDesign Committee – Members\, Liaison \nOrganizational Committee updates. \nAGENDA: \n\nApproval of Minutes – NA\nApproval for monthly meetings on the last Thursday of every month\nSelection of subcommittee liaisons\nApproval of Downtown Denville budget to be presented to Township Council in January\nBoard communication (Email\, Slack\, Drive\, etc..)\nOPRA overview\n\n  \nNew Business: \nOld Business: \n2nd Public Portion: \nMotion to Adjourn:
URL:https://downtowndenville.com/event/denville-public-meeting-jan-3/
LOCATION:Denville Townhall\, denville township municipal building\, 1 St Marys Pl\, Denville\, NJ 07834
END:VEVENT
BEGIN:VEVENT
DTSTART;VALUE=DATE:20231224
DTEND;VALUE=DATE:20231225
DTSTAMP:20260424T233928
CREATED:20231031T220712Z
LAST-MODIFIED:20231031T220712Z
UID:3689-1703376000-1703462399@downtowndenville.com
SUMMARY:Denville Fire Department Santa on the Truck
DESCRIPTION:
URL:https://downtowndenville.com/event/denville-fire-department-santa-on-the-truck/
END:VEVENT
BEGIN:VEVENT
DTSTART;TZID=UTC:20231212T170000
DTEND;TZID=UTC:20231212T170000
DTSTAMP:20260424T233928
CREATED:20231031T220417Z
LAST-MODIFIED:20231114T031650Z
UID:3686-1702400400-1702400400@downtowndenville.com
SUMMARY:Menorah Lighting
DESCRIPTION:
URL:https://downtowndenville.com/event/menorah-lighting/
LOCATION:Denville Townhall\, denville township municipal building\, 1 St Marys Pl\, Denville\, NJ 07834
END:VEVENT
BEGIN:VEVENT
DTSTART;TZID=UTC:20231209T130000
DTEND;TZID=UTC:20231209T130000
DTSTAMP:20260424T233928
CREATED:20231031T215326Z
LAST-MODIFIED:20231031T215326Z
UID:3681-1702126800-1702126800@downtowndenville.com
SUMMARY:Live Music by Kickstart
DESCRIPTION:
URL:https://downtowndenville.com/event/live-music-by-kickstart/
LOCATION:Denville Clocktower\, Denville\, Nj
ATTACH;FMTTYPE=image/jpeg:https://downtowndenville.com/wp-content/uploads/2023/10/KickStart-Acoustic-Entertainment.jpg
END:VEVENT
BEGIN:VEVENT
DTSTART;TZID=UTC:20231126T140000
DTEND;TZID=UTC:20231126T140000
DTSTAMP:20260424T233928
CREATED:20231031T214236Z
LAST-MODIFIED:20231120T025748Z
UID:3677-1701007200-1701007200@downtowndenville.com
SUMMARY:Denville Holiday Parade
DESCRIPTION:
URL:https://downtowndenville.com/event/denville-holiday-parade/
LOCATION:Denville\, Nj\, Denville\, Nj
ORGANIZER;CN="Downtown Denville":MAILTO:info@downtowndenville.com
END:VEVENT
BEGIN:VEVENT
DTSTART;TZID=UTC:20231125T180000
DTEND;TZID=UTC:20231125T190000
DTSTAMP:20260424T233928
CREATED:20231120T030129Z
LAST-MODIFIED:20231120T030129Z
UID:3970-1700935200-1700938800@downtowndenville.com
SUMMARY:Denville Rotary Santa Land Tree Lighting
DESCRIPTION:
URL:https://downtowndenville.com/event/denville-rotary-santa-land-tree-lighting/
END:VEVENT
BEGIN:VEVENT
DTSTART;VALUE=DATE:20231125
DTEND;VALUE=DATE:20231126
DTSTAMP:20260424T233928
CREATED:20231031T213752Z
LAST-MODIFIED:20231031T213917Z
UID:3673-1700870400-1700956799@downtowndenville.com
SUMMARY:Small Business Saturday
DESCRIPTION:
URL:https://downtowndenville.com/event/small-business-saturday/
LOCATION:Denville\, Nj\, Denville\, Nj
ATTACH;FMTTYPE=image/png:https://downtowndenville.com/wp-content/uploads/2023/10/Shopping-Bags.png
ORGANIZER;CN="Downtown Denville":MAILTO:info@downtowndenville.com
END:VEVENT
BEGIN:VEVENT
DTSTART;TZID=UTC:20231124T173000
DTEND;TZID=UTC:20231124T210000
DTSTAMP:20260424T233928
CREATED:20231031T212912Z
LAST-MODIFIED:20231031T212912Z
UID:3668-1700847000-1700859600@downtowndenville.com
SUMMARY:Holiday Open House
DESCRIPTION:
URL:https://downtowndenville.com/event/holiday-open-house/
LOCATION:Main Street\, Denville\, downtown denville new jersey
ATTACH;FMTTYPE=image/png:https://downtowndenville.com/wp-content/uploads/2023/10/Copy-of-2023-HOLIDAY-OPEN-HOUSE-5.75-x-8.75-in.png
ORGANIZER;CN="Downtown Denville":MAILTO:info@downtowndenville.com
END:VEVENT
BEGIN:VEVENT
DTSTART;TZID=UTC:20231105T083000
DTEND;TZID=UTC:20231105T130000
DTSTAMP:20260424T233928
CREATED:20231031T211625Z
LAST-MODIFIED:20231101T193637Z
UID:3663-1699173000-1699189200@downtowndenville.com
SUMMARY:Denville Makers Market
DESCRIPTION:
URL:https://downtowndenville.com/event/denville-makers-market/
LOCATION:Bloomfield Avenue Parking Lot\, Denville Farmers' Market\, Denville\, United States
ATTACH;FMTTYPE=image/jpeg:https://downtowndenville.com/wp-content/uploads/2023/10/384550892_17881602677948087_4888395912364307465_n.jpg
ORGANIZER;CN="Denville Arts Council":MAILTO:info@denvilleartscouncil.org
END:VEVENT
END:VCALENDAR